BEGIN:VCALENDAR
VERSION:2.0
PRODID:-//Teignmouth Harbour Commission - ECPv6.15.18//NONSGML v1.0//EN
CALSCALE:GREGORIAN
METHOD:PUBLISH
X-WR-CALNAME:Teignmouth Harbour Commission
X-ORIGINAL-URL:https://teignmouthharbour.com
X-WR-CALDESC:Events for Teignmouth Harbour Commission
REFRESH-INTERVAL;VALUE=DURATION:PT1H
X-Robots-Tag:noindex
X-PUBLISHED-TTL:PT1H
BEGIN:VTIMEZONE
TZID:UTC
BEGIN:STANDARD
TZOFFSETFROM:+0000
TZOFFSETTO:+0000
TZNAME:UTC
DTSTART:20230101T000000
END:STANDARD
END:VTIMEZONE
BEGIN:VEVENT
DTSTART;VALUE=DATE:20240728
DTEND;VALUE=DATE:20240805
DTSTAMP:20260422T151151
CREATED:20240326T142215Z
LAST-MODIFIED:20240326T142215Z
UID:1861-1722124800-1722815999@teignmouthharbour.com
SUMMARY:Teignmouth Regatta 2024
DESCRIPTION:
URL:https://teignmouthharbour.com/event/teignmouth-regatta-2024/
END:VEVENT
BEGIN:VEVENT
DTSTART;VALUE=DATE:20240803
DTEND;VALUE=DATE:20240804
DTSTAMP:20260422T151151
CREATED:20240327T094414Z
LAST-MODIFIED:20240327T094516Z
UID:1867-1722643200-1722729599@teignmouthharbour.com
SUMMARY:Shaldon Water Carnival 2024
DESCRIPTION:
URL:https://teignmouthharbour.com/event/shaldon-water-carnival-2024/
END:VEVENT
BEGIN:VEVENT
DTSTART;VALUE=DATE:20240818
DTEND;VALUE=DATE:20240827
DTSTAMP:20260422T151151
CREATED:20240326T141825Z
LAST-MODIFIED:20240326T141825Z
UID:1860-1723939200-1724716799@teignmouthharbour.com
SUMMARY:Shaldon Regatta 2024
DESCRIPTION:
URL:https://teignmouthharbour.com/event/shaldon-regatta-2024/
END:VEVENT
END:VCALENDAR