BEGIN:VCALENDAR
VERSION:2.0
PRODID:-//Teignmouth Harbour Commission - ECPv6.15.18//NONSGML v1.0//EN
CALSCALE:GREGORIAN
METHOD:PUBLISH
X-ORIGINAL-URL:https://teignmouthharbour.com
X-WR-CALDESC:Events for Teignmouth Harbour Commission
REFRESH-INTERVAL;VALUE=DURATION:PT1H
X-Robots-Tag:noindex
X-PUBLISHED-TTL:PT1H
BEGIN:VTIMEZONE
TZID:UTC
BEGIN:STANDARD
TZOFFSETFROM:+0000
TZOFFSETTO:+0000
TZNAME:UTC
DTSTART:20210101T000000
END:STANDARD
END:VTIMEZONE
BEGIN:VEVENT
DTSTART;VALUE=DATE:20220602
DTEND;VALUE=DATE:20220606
DTSTAMP:20260422T082011
CREATED:20220518T102912Z
LAST-MODIFIED:20220518T104813Z
UID:1273-1654128000-1654473599@teignmouthharbour.com
SUMMARY:Teignmouth Platinum Jubilee Celebrations
DESCRIPTION:
URL:https://teignmouthharbour.com/event/teignmouth-platinum-jubilee-celebrations/
END:VEVENT
BEGIN:VEVENT
DTSTART;TZID=UTC:20220603T183000
DTEND;TZID=UTC:20220603T190000
DTSTAMP:20260422T082011
CREATED:20220516T145543Z
LAST-MODIFIED:20220518T102621Z
UID:1257-1654281000-1654282800@teignmouthharbour.com
SUMMARY:Flyboarding display off Shaldon Beach
DESCRIPTION:
URL:https://teignmouthharbour.com/event/flyboarding-display-off-shaldon-beach/
END:VEVENT
BEGIN:VEVENT
DTSTART;TZID=UTC:20220603T220000
DTEND;TZID=UTC:20220603T223000
DTSTAMP:20260422T082011
CREATED:20220516T145637Z
LAST-MODIFIED:20220518T100207Z
UID:1258-1654293600-1654295400@teignmouthharbour.com
SUMMARY:Flyboarding display off Shaldon Beach - James Prestwood
DESCRIPTION:
URL:https://teignmouthharbour.com/event/flyboarding-display-off-shaldon-beach-2/
END:VEVENT
BEGIN:VEVENT
DTSTART;TZID=UTC:20220611T173000
DTEND;TZID=UTC:20220611T200000
DTSTAMP:20260422T082011
CREATED:20220516T144116Z
LAST-MODIFIED:20220516T144116Z
UID:1250-1654968600-1654977600@teignmouthharbour.com
SUMMARY:RTRC Seine Boat Race
DESCRIPTION:Race 4
URL:https://teignmouthharbour.com/event/rtrc-seine-boat-race-3/
END:VEVENT
BEGIN:VEVENT
DTSTART;TZID=UTC:20220625T173000
DTEND;TZID=UTC:20220625T200000
DTSTAMP:20260422T082011
CREATED:20220516T144221Z
LAST-MODIFIED:20220516T144221Z
UID:1251-1656178200-1656187200@teignmouthharbour.com
SUMMARY:RTRC Seine Boat Race
DESCRIPTION:Race 5
URL:https://teignmouthharbour.com/event/rtrc-seine-boat-race-4/
END:VEVENT
END:VCALENDAR